BEGIN:VCALENDAR
VERSION:2.0
PRODID:-//Szkoła Podstawowa nr 8 im. Kazimierza Ecksteina w Świeciu - ECPv6.15.20//NONSGML v1.0//EN
CALSCALE:GREGORIAN
METHOD:PUBLISH
X-ORIGINAL-URL:https://sp8swiecie.pl
X-WR-CALDESC:Wydarzenia dla Szkoła Podstawowa nr 8 im. Kazimierza Ecksteina w Świeciu
REFRESH-INTERVAL;VALUE=DURATION:PT1H
X-Robots-Tag:noindex
X-PUBLISHED-TTL:PT1H
BEGIN:VTIMEZONE
TZID:Europe/Warsaw
BEGIN:DAYLIGHT
TZOFFSETFROM:+0100
TZOFFSETTO:+0200
TZNAME:CEST
DTSTART:20210328T010000
END:DAYLIGHT
BEGIN:STANDARD
TZOFFSETFROM:+0200
TZOFFSETTO:+0100
TZNAME:CET
DTSTART:20211031T010000
END:STANDARD
BEGIN:DAYLIGHT
TZOFFSETFROM:+0100
TZOFFSETTO:+0200
TZNAME:CEST
DTSTART:20220327T010000
END:DAYLIGHT
BEGIN:STANDARD
TZOFFSETFROM:+0200
TZOFFSETTO:+0100
TZNAME:CET
DTSTART:20221030T010000
END:STANDARD
BEGIN:DAYLIGHT
TZOFFSETFROM:+0100
TZOFFSETTO:+0200
TZNAME:CEST
DTSTART:20230326T010000
END:DAYLIGHT
BEGIN:STANDARD
TZOFFSETFROM:+0200
TZOFFSETTO:+0100
TZNAME:CET
DTSTART:20231029T010000
END:STANDARD
END:VTIMEZONE
BEGIN:VEVENT
DTSTART;VALUE=DATE:20220414
DTEND;VALUE=DATE:20220420
DTSTAMP:20260421T061054
CREATED:20220110T130606Z
LAST-MODIFIED:20220505T102220Z
UID:438-1649894400-1650412799@sp8swiecie.pl
SUMMARY:Wiosenna przerwa świąteczna - Wielkanoc
DESCRIPTION:14 kwietnia – 19 kwietnia 2022 r.  \nPodstawa prawna:  \n§ 3 ust. 1 pkt. 3 rozporządzenia Ministra Edukacji Narodowej i Sportu z dnia 18 kwietnia 2002 r. w sprawie organizacji roku szkolnego (Dz. U. Nr 46\, poz. 432\, z późn. zm.) oraz § 3 ust. 1 pkt 3 rozporządzenia Ministra Edukacji Narodowej\nz dnia 11 sierpnia 2017 r. w sprawie organizacji roku szkolnego (Dz. U. poz. 1603 z późn. zm.).
URL:https://sp8swiecie.pl/event/wiosenna-przerwa-swiateczna-wielkanoc/
CATEGORIES:Święta
ATTACH;FMTTYPE=image/webp:https://sp8swiecie.pl/wp-content/uploads/2022/01/pisanki.webp
END:VEVENT
END:VCALENDAR