BEGIN:VCALENDAR
VERSION:2.0
PRODID:-//Szkoła Podstawowa nr 8 im. Kazimierza Ecksteina w Świeciu - ECPv6.15.20//NONSGML v1.0//EN
CALSCALE:GREGORIAN
METHOD:PUBLISH
X-ORIGINAL-URL:https://sp8swiecie.pl
X-WR-CALDESC:Wydarzenia dla Szkoła Podstawowa nr 8 im. Kazimierza Ecksteina w Świeciu
REFRESH-INTERVAL;VALUE=DURATION:PT1H
X-Robots-Tag:noindex
X-PUBLISHED-TTL:PT1H
BEGIN:VTIMEZONE
TZID:Europe/Warsaw
BEGIN:DAYLIGHT
TZOFFSETFROM:+0100
TZOFFSETTO:+0200
TZNAME:CEST
DTSTART:20210328T010000
END:DAYLIGHT
BEGIN:STANDARD
TZOFFSETFROM:+0200
TZOFFSETTO:+0100
TZNAME:CET
DTSTART:20211031T010000
END:STANDARD
BEGIN:DAYLIGHT
TZOFFSETFROM:+0100
TZOFFSETTO:+0200
TZNAME:CEST
DTSTART:20220327T010000
END:DAYLIGHT
BEGIN:STANDARD
TZOFFSETFROM:+0200
TZOFFSETTO:+0100
TZNAME:CET
DTSTART:20221030T010000
END:STANDARD
BEGIN:DAYLIGHT
TZOFFSETFROM:+0100
TZOFFSETTO:+0200
TZNAME:CEST
DTSTART:20230326T010000
END:DAYLIGHT
BEGIN:STANDARD
TZOFFSETFROM:+0200
TZOFFSETTO:+0100
TZNAME:CET
DTSTART:20231029T010000
END:STANDARD
END:VTIMEZONE
BEGIN:VEVENT
DTSTART;VALUE=DATE:20220616
DTEND;VALUE=DATE:20220617
DTSTAMP:20260421T055325
CREATED:20220428T104740Z
LAST-MODIFIED:20220505T102126Z
UID:865-1655337600-1655423999@sp8swiecie.pl
SUMMARY:Boże Ciało
DESCRIPTION:Boże Ciało\, przypadające w czwartek\, to uroczystość liturgiczna ku czci Najświętszego Sakramentu. Głównym punktem obchodów jest procesja eucharystyczna ulicami miasta. Uczestnictwo w procesji – to publiczna manifestacja wiary. \nŚwięto jak co roku jest dniem wolnym od zajęć szkolnych.
URL:https://sp8swiecie.pl/event/boze-cialo/
CATEGORIES:Święta
ATTACH;FMTTYPE=image/webp:https://sp8swiecie.pl/wp-content/uploads/2022/04/000c8xqmqfuycs1p-c125.webp
END:VEVENT
END:VCALENDAR