BEGIN:VCALENDAR
VERSION:2.0
PRODID:-//Szkoła Podstawowa nr 8 im. Kazimierza Ecksteina w Świeciu - ECPv6.15.20//NONSGML v1.0//EN
CALSCALE:GREGORIAN
METHOD:PUBLISH
X-WR-CALNAME:Szkoła Podstawowa nr 8 im. Kazimierza Ecksteina w Świeciu
X-ORIGINAL-URL:https://sp8swiecie.pl
X-WR-CALDESC:Wydarzenia dla Szkoła Podstawowa nr 8 im. Kazimierza Ecksteina w Świeciu
REFRESH-INTERVAL;VALUE=DURATION:PT1H
X-Robots-Tag:noindex
X-PUBLISHED-TTL:PT1H
BEGIN:VTIMEZONE
TZID:Europe/Warsaw
BEGIN:DAYLIGHT
TZOFFSETFROM:+0100
TZOFFSETTO:+0200
TZNAME:CEST
DTSTART:20210328T010000
END:DAYLIGHT
BEGIN:STANDARD
TZOFFSETFROM:+0200
TZOFFSETTO:+0100
TZNAME:CET
DTSTART:20211031T010000
END:STANDARD
BEGIN:DAYLIGHT
TZOFFSETFROM:+0100
TZOFFSETTO:+0200
TZNAME:CEST
DTSTART:20220327T010000
END:DAYLIGHT
BEGIN:STANDARD
TZOFFSETFROM:+0200
TZOFFSETTO:+0100
TZNAME:CET
DTSTART:20221030T010000
END:STANDARD
BEGIN:DAYLIGHT
TZOFFSETFROM:+0100
TZOFFSETTO:+0200
TZNAME:CEST
DTSTART:20230326T010000
END:DAYLIGHT
BEGIN:STANDARD
TZOFFSETFROM:+0200
TZOFFSETTO:+0100
TZNAME:CET
DTSTART:20231029T010000
END:STANDARD
END:VTIMEZONE
BEGIN:VEVENT
DTSTART;VALUE=DATE:20220625
DTEND;VALUE=DATE:20220901
DTSTAMP:20260421T041859
CREATED:20220428T103119Z
LAST-MODIFIED:20220505T102102Z
UID:849-1656115200-1661990399@sp8swiecie.pl
SUMMARY:Wakacje Letnie
DESCRIPTION:
URL:https://sp8swiecie.pl/event/wakacje-letnie/
CATEGORIES:Inne
ATTACH;FMTTYPE=image/webp:https://sp8swiecie.pl/wp-content/uploads/2022/04/7a60e115-941c-4713-9fc8-8f2e4bac1bed.webp
END:VEVENT
BEGIN:VEVENT
DTSTART;VALUE=DATE:20220117
DTEND;VALUE=DATE:20220131
DTSTAMP:20260421T041859
CREATED:20220110T122111Z
LAST-MODIFIED:20220505T102209Z
UID:432-1642377600-1643587199@sp8swiecie.pl
SUMMARY:Ferie Zimowe
DESCRIPTION:Na podstawie § 3 ust. 1 pkt 2 rozporządzenia Ministra Edukacji Narodowej i Sportu z dnia 18 kwietnia 2002 r. w sprawie organizacji roku szkolnego (Dz. U. Nr 46\, poz. 432\, z późn. zm.) oraz na podstawie § 3 ust. 1 pkt 2 rozporządzenia Ministra Edukacji Narodowej z dnia 11 sierpnia 2017 r. w sprawie organizacji roku szkolnego (Dz. U. poz. 1603) Minister Edukacji Narodowej ogłosił terminy rozpoczęcia i zakończenia ferii zimowych w poszczególnych województwach w roku szkolnym 2021/2022. \n\n17 – 30 stycznia 2022 r.\n\nWojewództwa: kujawsko-pomorskie\, lubuskie\, małopolskie\, świętokrzyskie\, wielkopolskie \n\n24 stycznia – 6 lutego 2022 r.\n\nWojewództwa: podlaskie\, warmińsko-mazurskie \n\n31 stycznia – 13 lutego 2022 r.\n\nWojewództwa: dolnośląskie\, mazowieckie\, opolskie\,zachodniopomorskie \n\n14 – 27 lutego 2022 r.\n\nWojewództwa: lubelskie\, łódzkie\, podkarpackie\, pomorskie\, śląskie
URL:https://sp8swiecie.pl/event/ferie-zimowe/
CATEGORIES:Organizacyjne
ATTACH;FMTTYPE=image/webp:https://sp8swiecie.pl/wp-content/uploads/2022/01/ferie-zimowe.webp
END:VEVENT
END:VCALENDAR