BEGIN:VCALENDAR
VERSION:2.0
PRODID:-//Szkoła Podstawowa nr 8 im. Kazimierza Ecksteina w Świeciu - ECPv6.15.20//NONSGML v1.0//EN
CALSCALE:GREGORIAN
METHOD:PUBLISH
X-ORIGINAL-URL:https://sp8swiecie.pl
X-WR-CALDESC:Wydarzenia dla Szkoła Podstawowa nr 8 im. Kazimierza Ecksteina w Świeciu
REFRESH-INTERVAL;VALUE=DURATION:PT1H
X-Robots-Tag:noindex
X-PUBLISHED-TTL:PT1H
BEGIN:VTIMEZONE
TZID:Europe/Warsaw
BEGIN:DAYLIGHT
TZOFFSETFROM:+0100
TZOFFSETTO:+0200
TZNAME:CEST
DTSTART:20230326T010000
END:DAYLIGHT
BEGIN:STANDARD
TZOFFSETFROM:+0200
TZOFFSETTO:+0100
TZNAME:CET
DTSTART:20231029T010000
END:STANDARD
BEGIN:DAYLIGHT
TZOFFSETFROM:+0100
TZOFFSETTO:+0200
TZNAME:CEST
DTSTART:20240331T010000
END:DAYLIGHT
BEGIN:STANDARD
TZOFFSETFROM:+0200
TZOFFSETTO:+0100
TZNAME:CET
DTSTART:20241027T010000
END:STANDARD
BEGIN:DAYLIGHT
TZOFFSETFROM:+0100
TZOFFSETTO:+0200
TZNAME:CEST
DTSTART:20250330T010000
END:DAYLIGHT
BEGIN:STANDARD
TZOFFSETFROM:+0200
TZOFFSETTO:+0100
TZNAME:CET
DTSTART:20251026T010000
END:STANDARD
END:VTIMEZONE
BEGIN:VEVENT
DTSTART;VALUE=DATE:20240514
DTEND;VALUE=DATE:20240515
DTSTAMP:20260422T081935
CREATED:20240317T175706Z
LAST-MODIFIED:20240317T175706Z
UID:7665-1715644800-1715731199@sp8swiecie.pl
SUMMARY:Egzamin ósmoklasisty z języka polskiego
DESCRIPTION:
URL:https://sp8swiecie.pl/event/egzamin-osmoklasisty-z-jezyka-polskiego-3/
END:VEVENT
BEGIN:VEVENT
DTSTART;VALUE=DATE:20240515
DTEND;VALUE=DATE:20240516
DTSTAMP:20260422T081935
CREATED:20240317T175601Z
LAST-MODIFIED:20240317T175621Z
UID:7662-1715731200-1715817599@sp8swiecie.pl
SUMMARY:Egzamin ósmoklasisty z matematyki
DESCRIPTION:
URL:https://sp8swiecie.pl/event/egzamin-osmoklasisty-z-jezyka-polskiego-2/
END:VEVENT
BEGIN:VEVENT
DTSTART;VALUE=DATE:20240516
DTEND;VALUE=DATE:20240517
DTSTAMP:20260422T081935
CREATED:20240317T175750Z
LAST-MODIFIED:20240317T175750Z
UID:7667-1715817600-1715903999@sp8swiecie.pl
SUMMARY:Egzamin ósmoklasisty z języka angielskiego
DESCRIPTION:
URL:https://sp8swiecie.pl/event/egzamin-osmoklasisty-z-jezyka-angielskiego-2/
END:VEVENT
END:VCALENDAR