BEGIN:VCALENDAR
VERSION:2.0
PRODID:-//Szkoła Podstawowa nr 8 im. Kazimierza Ecksteina w Świeciu - ECPv6.15.20//NONSGML v1.0//EN
CALSCALE:GREGORIAN
METHOD:PUBLISH
X-WR-CALNAME:Szkoła Podstawowa nr 8 im. Kazimierza Ecksteina w Świeciu
X-ORIGINAL-URL:https://sp8swiecie.pl
X-WR-CALDESC:Wydarzenia dla Szkoła Podstawowa nr 8 im. Kazimierza Ecksteina w Świeciu
REFRESH-INTERVAL;VALUE=DURATION:PT1H
X-Robots-Tag:noindex
X-PUBLISHED-TTL:PT1H
BEGIN:VTIMEZONE
TZID:Europe/Warsaw
BEGIN:DAYLIGHT
TZOFFSETFROM:+0100
TZOFFSETTO:+0200
TZNAME:CEST
DTSTART:20210328T010000
END:DAYLIGHT
BEGIN:STANDARD
TZOFFSETFROM:+0200
TZOFFSETTO:+0100
TZNAME:CET
DTSTART:20211031T010000
END:STANDARD
BEGIN:DAYLIGHT
TZOFFSETFROM:+0100
TZOFFSETTO:+0200
TZNAME:CEST
DTSTART:20220327T010000
END:DAYLIGHT
BEGIN:STANDARD
TZOFFSETFROM:+0200
TZOFFSETTO:+0100
TZNAME:CET
DTSTART:20221030T010000
END:STANDARD
BEGIN:DAYLIGHT
TZOFFSETFROM:+0100
TZOFFSETTO:+0200
TZNAME:CEST
DTSTART:20230326T010000
END:DAYLIGHT
BEGIN:STANDARD
TZOFFSETFROM:+0200
TZOFFSETTO:+0100
TZNAME:CET
DTSTART:20231029T010000
END:STANDARD
END:VTIMEZONE
BEGIN:VEVENT
DTSTART;VALUE=DATE:20221014
DTEND;VALUE=DATE:20221015
DTSTAMP:20260425T182608
CREATED:20220919T090935Z
LAST-MODIFIED:20221003T163428Z
UID:1979-1665705600-1665791999@sp8swiecie.pl
SUMMARY:Dzień Edukacji Narodowej
DESCRIPTION:Dzień Edukacji Narodowej – polskie święto oświaty i szkolnictwa wyższego ustanowione 27 kwietnia 1972 roku\, określone ustawą – Karta praw i obowiązków nauczyciela jako Dzień Nauczyciela[1]. Od 1982 roku na mocy ustawy Karta Nauczyciela obchodzone jako Dzień Edukacji Narodowej[2]. \nUpamiętnia rocznicę powstania Komisji Edukacji Narodowej\, która została utworzona z inicjatywy króla Stanisława II Augusta Poniatowskiego i zrealizowana przez Sejm Rozbiorowy w dniu 14 października 1773 roku. Potocznie dzień ten nadal zwany jest Dniem Nauczyciela.
URL:https://sp8swiecie.pl/event/dzien-edukacji-narodowej/
CATEGORIES:Święta
ATTACH;FMTTYPE=image/webp:https://sp8swiecie.pl/wp-content/uploads/2022/09/sp8.webp
END:VEVENT
END:VCALENDAR