BEGIN:VCALENDAR
VERSION:2.0
PRODID:-//Szkoła Podstawowa nr 8 im. Kazimierza Ecksteina w Świeciu - ECPv6.15.20//NONSGML v1.0//EN
CALSCALE:GREGORIAN
METHOD:PUBLISH
X-ORIGINAL-URL:https://sp8swiecie.pl
X-WR-CALDESC:Wydarzenia dla Szkoła Podstawowa nr 8 im. Kazimierza Ecksteina w Świeciu
REFRESH-INTERVAL;VALUE=DURATION:PT1H
X-Robots-Tag:noindex
X-PUBLISHED-TTL:PT1H
BEGIN:VTIMEZONE
TZID:Europe/Warsaw
BEGIN:DAYLIGHT
TZOFFSETFROM:+0100
TZOFFSETTO:+0200
TZNAME:CEST
DTSTART:20210328T010000
END:DAYLIGHT
BEGIN:STANDARD
TZOFFSETFROM:+0200
TZOFFSETTO:+0100
TZNAME:CET
DTSTART:20211031T010000
END:STANDARD
BEGIN:DAYLIGHT
TZOFFSETFROM:+0100
TZOFFSETTO:+0200
TZNAME:CEST
DTSTART:20220327T010000
END:DAYLIGHT
BEGIN:STANDARD
TZOFFSETFROM:+0200
TZOFFSETTO:+0100
TZNAME:CET
DTSTART:20221030T010000
END:STANDARD
BEGIN:DAYLIGHT
TZOFFSETFROM:+0100
TZOFFSETTO:+0200
TZNAME:CEST
DTSTART:20230326T010000
END:DAYLIGHT
BEGIN:STANDARD
TZOFFSETFROM:+0200
TZOFFSETTO:+0100
TZNAME:CET
DTSTART:20231029T010000
END:STANDARD
END:VTIMEZONE
BEGIN:VEVENT
DTSTART;VALUE=DATE:20220524
DTEND;VALUE=DATE:20220527
DTSTAMP:20260426T040841
CREATED:20220428T103606Z
LAST-MODIFIED:20220505T102149Z
UID:853-1653350400-1653609599@sp8swiecie.pl
SUMMARY:Egzamin ósmoklasisty
DESCRIPTION:Egzamin ósmoklasisty \n\n24 maja – język polski\n25 maja – matematyka\n26 maja – język obcy nowożytny
URL:https://sp8swiecie.pl/event/egzamin-osmoklasisty/
LOCATION:Szkoła Podstawowa nr 8 im. Kazimierza Ecksteina w Świeciu\, al. Jana Pawła II 8\, Świecie\, Kujawsko-Pomorskie\, 86-105\, Poland
CATEGORIES:Egzaminy
ATTACH;FMTTYPE=image/webp:https://sp8swiecie.pl/wp-content/uploads/2022/04/z26169191ierwyniki-egzaminu-osmoklasisty-2020-jak-poradzili-s.webp
END:VEVENT
END:VCALENDAR