BEGIN:VCALENDAR
VERSION:2.0
PRODID:-//Szkoła Podstawowa nr 8 im. Kazimierza Ecksteina w Świeciu - ECPv6.15.20//NONSGML v1.0//EN
CALSCALE:GREGORIAN
METHOD:PUBLISH
X-ORIGINAL-URL:https://sp8swiecie.pl
X-WR-CALDESC:Wydarzenia dla Szkoła Podstawowa nr 8 im. Kazimierza Ecksteina w Świeciu
REFRESH-INTERVAL;VALUE=DURATION:PT1H
X-Robots-Tag:noindex
X-PUBLISHED-TTL:PT1H
BEGIN:VTIMEZONE
TZID:Europe/Warsaw
BEGIN:DAYLIGHT
TZOFFSETFROM:+0100
TZOFFSETTO:+0200
TZNAME:CEST
DTSTART:20240331T010000
END:DAYLIGHT
BEGIN:STANDARD
TZOFFSETFROM:+0200
TZOFFSETTO:+0100
TZNAME:CET
DTSTART:20241027T010000
END:STANDARD
BEGIN:DAYLIGHT
TZOFFSETFROM:+0100
TZOFFSETTO:+0200
TZNAME:CEST
DTSTART:20250330T010000
END:DAYLIGHT
BEGIN:STANDARD
TZOFFSETFROM:+0200
TZOFFSETTO:+0100
TZNAME:CET
DTSTART:20251026T010000
END:STANDARD
BEGIN:DAYLIGHT
TZOFFSETFROM:+0100
TZOFFSETTO:+0200
TZNAME:CEST
DTSTART:20260329T010000
END:DAYLIGHT
BEGIN:STANDARD
TZOFFSETFROM:+0200
TZOFFSETTO:+0100
TZNAME:CET
DTSTART:20261025T010000
END:STANDARD
END:VTIMEZONE
BEGIN:VEVENT
DTSTART;TZID=Europe/Warsaw:20250303T090000
DTEND;TZID=Europe/Warsaw:20250324T140000
DTSTAMP:20260421T180633
CREATED:20250219T195055Z
LAST-MODIFIED:20250305T075831Z
UID:9941-1740992400-1742824800@sp8swiecie.pl
SUMMARY:Rekrutacja do pierwszych klas
DESCRIPTION:  \n  \n  \n                                                  Serdecznie zapraszamy                                                            \n            Rodziców dzieci urodzonych w 2018 roku                 \n                             do zapisywania uczniów do klasy pierwszej                                            \nSzkoły Podstawowej nr 8 im. Kazimierza Ecksteina w Świeciu. \nWniosek zgłoszeniowy należy wypełnić za pośrednictwem strony \n    https://rekrutacje-swiecie.pzo.edu.pl \nw terminie od 03.03.2025r. godz. 9:00 do 24.03.2025 r. godz. 14:00 \n  \n 
URL:https://sp8swiecie.pl/event/rekrutacja-do-pierwszych-klas/
CATEGORIES:Organizacyjne
END:VEVENT
BEGIN:VEVENT
DTSTART;VALUE=DATE:20250317
DTEND;VALUE=DATE:20250327
DTSTAMP:20260421T180633
CREATED:20250322T150550Z
LAST-MODIFIED:20250322T150550Z
UID:10040-1742169600-1743033599@sp8swiecie.pl
SUMMARY:Grant Mondi - prosimy o głosy
DESCRIPTION:Nasza szkoła bierze udział w projekcie Mondi – Wspieramy Lokalnie\, w którym możemy otrzymać 10 000 zł na zakup wygodnych siedzisk do szkolnych korytarzy.\nAby to się udało\, potrzebujemy Waszych głosów! \nJak głosować?\nWystarczy wejść na stronę: https://www.mondigroup.com/Mondi-Swiecie-Wspieramy-Lokalnie/ – tu znajduje się formularz do głosowania i wszystkie informacje o programie.\nNasz projekt znajduje się pod numerem 51 w kategorii Infrastruktura i rozwój lokalny\, kultura\, ochrona środowiska. \nLiczymy na Wasze wsparcie! Głosowanie trwa od 17 do 30 marca. \nDziękujemy za każdy oddany głos!
URL:https://sp8swiecie.pl/event/grant-mondi-prosimy-o-glosy/
CATEGORIES:Inne
END:VEVENT
END:VCALENDAR